BEGIN:VCALENDAR
VERSION:2.0
PRODID:-//wp-events-plugin.com//7.2.3.1//EN
TZID:Europe/Rome
X-WR-TIMEZONE:Europe/Rome
BEGIN:VEVENT
UID:26@abi.it
DTSTART;TZID=Europe/Rome:20260428T093000
DTEND;TZID=Europe/Rome:20260428T130000
DTSTAMP:20260423T074805Z
URL:https://www.abi.it/events/identita-digitale-e-pagamenti-il-nuovo-equil
 ibrio-europeo-nellera-di-eidas-2/
SUMMARY:Identità Digitale e Pagamenti: il nuovo equilibrio europeo nell’
 era di eIDAS 2
DESCRIPTION:
LOCATION:/identita-digitale-e-pagamenti-il-nuovo-equilibrio-europeo-nellera
 -di-eidas-2/
END:VEVENT
BEGIN:VTIMEZONE
TZID:Europe/Rome
X-LIC-LOCATION:Europe/Rome
BEGIN:DAYLIGHT
DTSTART:20260329T030000
TZOFFSETFROM:+0100
TZOFFSETTO:+0200
TZNAME:CEST
END:DAYLIGHT
END:VTIMEZONE
END:VCALENDAR